BEGIN:VCALENDAR
VERSION:2.0
PRODID:icalendar-ruby
CALSCALE:GREGORIAN
METHOD:PUBLISH
BEGIN:VEVENT
DTSTAMP:20260420T005118Z
UID:58-1151014@encounterchurchmacon.org
DTSTART:20260517T160000Z
DTEND:20260517T200000Z
CLASS:PUBLIC
CREATED:20260419T140929
DESCRIPTION:Join us for a Spaghetti lunch followed by a cake auction to rai
 se funds to send our youth to Passion Camp.  Spaghetti plates will be $10
  per person.  We will have delicious homemade cakes and baked goods to au
 ction off.  You can share your purchased baked good with your table as de
 ssert or take it home to eat.
LAST-MODIFIED:20260419T140929
LOCATION:Fellowship Hall
SUMMARY:Spaghetti Lunch and Cake Auction
URL;VALUE=URI:https://www.encounterchurchmacon.org/events/spaghetti-lunch-a
 nd-cake-auction/2026-05-17
ATTACH;FILENAME=Spaghtti-Lunch-and-Cake-Auction.png;FMTTYPE=image/png:https
 ://dq5pwpg1q8ru0.cloudfront.net/2026/04/19/18/09/28/2056291b-79eb-4eae-8cb
 b-db9703effd8f/Spaghtti-Lunch-and-Cake-Auction.png
END:VEVENT
END:VCALENDAR
